BEGIN:VCALENDAR
VERSION:2.0
METHOD:PUBLISH
CALSCALE:GREGORIAN
PRODID:-//WordPress - MECv7.29.0//EN
X-ORIGINAL-URL:https://www.ebarrelracing.com/articles/
X-WR-CALNAME:Ebarrelracing.com
X-WR-CALDESC:Unleash the Thrill of Barrel Racing
X-WR-TIMEZONE:America/Chicago
BEGIN:VTIMEZONE
TZID:America/Chicago
X-LIC-LOCATION:America/Chicago
BEGIN:DAYLIGHT
TZOFFSETFROM:-0600
TZOFFSETTO:-0500
TZNAME:CDT
DTSTART:20260308T030000
RRULE:FREQ=YEARLY;BYMONTH=03;BYDAY=2SU
END:DAYLIGHT
BEGIN:STANDARD
TZOFFSETFROM:-0500
TZOFFSETTO:-0600
TZNAME:CST
DTSTART:20261101T010000
RRULE:FREQ=YEARLY;BYMONTH=11;BYDAY=1SU
END:STANDARD
END:VTIMEZONE
REFRESH-INTERVAL;VALUE=DURATION:PT1H
X-PUBLISHED-TTL:PT1H
X-MS-OLK-FORCEINSPECTOROPEN:TRUE
BEGIN:VEVENT
CLASS:PUBLIC
UID:MEC-68dfff284e90ee47fcc6b4941047edad@ebarrelracing.com
DTSTART;TZID=America/Chicago:20260425T090000
DTEND;TZID=America/Chicago:20260425T220000
DTSTAMP:20260402T150851Z
CREATED:20260402
LAST-MODIFIED:20260402
PRIORITY:5
SEQUENCE:2
TRANSP:OPAQUE
SUMMARY:Take Your Shot Barrel Race
DESCRIPTION:\n
URL:https://www.ebarrelracing.com/articles/events/take-your-shot-barrel-race/
ORGANIZER;CN=Arrow CS Productions:MAILTO:sierra.marie6577@yahoo.com
CATEGORIES:4D,Added Money,Adult Inc.,Arrow CS Productions,Barrel Race,Derby Sidepot,Equivent Enter Online,Exhibitions,Futurity,Open,Senior Inc.,Youth Inc.
LOCATION:498 Private Road #2391, Decatur, TX 76234
ATTACH;FMTTYPE=image/jpeg:https://www.ebarrelracing.com/articles/wp-content/uploads/2026/04/take-your-shot.jpg
END:VEVENT
BEGIN:VEVENT
CLASS:PUBLIC
UID:MEC-3791226cb3fcb9a6710e1ead55571d86@ebarrelracing.com
DTSTART;TZID=America/Chicago:20260428T120000
DURATION:PT10H
DTSTAMP:20260327T231346Z
RDATE;TZID=America/Chicago:20260414T120000,20260428T120000
CREATED:20260327
LAST-MODIFIED:20260412
PRIORITY:5
SEQUENCE:2
TRANSP:OPAQUE
SUMMARY:Tuesday Tune-ups
DESCRIPTION:
URL:https://www.ebarrelracing.com/articles/events/tuesday-tune-ups-2/
ORGANIZER;CN=Se'vette Early:MAILTO:raftereprod@gmail.com
CATEGORIES:5D,Adult Inc.,Barrel Race,Exhibitions,Novice Horse,Open,Senior Inc.,Youth Inc.
LOCATION:2301 Co Rd 197, Gonzales, TX 78629
ATTACH;FMTTYPE=image/png:https://www.ebarrelracing.com/articles/wp-content/uploads/2026/03/image-4.png
END:VEVENT
BEGIN:VEVENT
CLASS:PUBLIC
UID:MEC-8d12cf40aa0cf92405843c12a2d57f03@ebarrelracing.com
DTSTART;TZID=America/Chicago:20260429T090000
DURATION:PT13H
DTSTAMP:20260227T090326Z
RDATE;TZID=America/Chicago:20260311T090000,20260318T090000,20260415T090000,20260429T090000
CREATED:20260227
LAST-MODIFIED:20260310
PRIORITY:5
SEQUENCE:4
TRANSP:OPAQUE
SUMMARY:Turning It Up Spring Series
DESCRIPTION:Online Entries Open Mondays prior to event from 7am-9pm\n\n
URL:https://www.ebarrelracing.com/articles/events/turning-it-up-spring-series/
ORGANIZER;CN=Arrow CS Productions:MAILTO:sierra.marie6577@yahoo.com
CATEGORIES:4D,Barrel Race,High Stakes,Open,Senior Race,Youth Inc.
LOCATION:202 E Bo Gibbs Dr Glen Rose , TX 76043
ATTACH;FMTTYPE=image/jpeg:https://www.ebarrelracing.com/articles/wp-content/uploads/2026/02/Turnin-it-up.jpg
END:VEVENT
BEGIN:VEVENT
CLASS:PUBLIC
UID:MEC-d7012f5714b8a6a970f5bd34806267c6@ebarrelracing.com
DTSTART;TZID=America/Chicago:20260506T090000
DTEND;TZID=America/Chicago:20260506T180000
DTSTAMP:20260408T100235Z
RRULE:FREQ=WEEKLY;UNTIL=20260527T230000Z
CREATED:20260408
LAST-MODIFIED:20260408
PRIORITY:5
SEQUENCE:2
TRANSP:OPAQUE
SUMMARY:Full Throttle Buckle Series
DESCRIPTION:ONLINE ENTRIES OPEN EVERY MONDAY BEFORE RACE 7am-9pm\n \n
URL:https://www.ebarrelracing.com/articles/events/full-throttle-buckle-series/
ORGANIZER;CN=Arrow CS Productions:MAILTO:sierra.marie6577@yahoo.com
CATEGORIES:4D,Arrow CS Productions,Barrel Race,Derby Sidepot,Futurity,High Stakes,Novice Youth,Open,Youth Race
LOCATION:202 E Bo Gibbs Dr Glen Rose , TX 76043
ATTACH;FMTTYPE=image/jpeg:https://www.ebarrelracing.com/articles/wp-content/uploads/2026/04/full-throttle-may-series.jpeg
END:VEVENT
BEGIN:VEVENT
CLASS:PUBLIC
UID:MEC-34c19f785e19b343fe2f54b3202f632c@ebarrelracing.com
DTSTART;TZID=America/Chicago:20260506T130000
DTEND;TZID=America/Chicago:20260506T210000
DTSTAMP:20260222T105050Z
RDATE;TZID=America/Chicago:20260225T130000,20260311T130000,20260325T130000,20260401T130000,20260422T130000,20260506T130000,20260520T130000,20260603T130000,20260617T130000
CREATED:20260222
LAST-MODIFIED:20260222
PRIORITY:5
SEQUENCE:2
TRANSP:OPAQUE
SUMMARY:Weekend Warm-ups Wednesdays
DESCRIPTION:
URL:https://www.ebarrelracing.com/articles/events/weekend-warm-ups-wednesdays/
ORGANIZER;CN=Se'vette Early:MAILTO:raftereprod@gmail.com
CATEGORIES:5D,Barrel Race,Exhibitions,Open,Youth Race
LOCATION:2200 Ranch Road 152, Llano, TX
ATTACH;FMTTYPE=image/jpeg:https://www.ebarrelracing.com/articles/wp-content/uploads/2026/02/2026-races.jpg
END:VEVENT
BEGIN:VEVENT
CLASS:PUBLIC
UID:MEC-4ceefb51ae9ec399a69540c895f4519f@ebarrelracing.com
DTSTART;TZID=America/Chicago:20260509T100000
DTEND;TZID=America/Chicago:20260509T210000
DTSTAMP:20260323T205509Z
CREATED:20260323
LAST-MODIFIED:20260323
PRIORITY:5
SEQUENCE:1
TRANSP:OPAQUE
SUMMARY:Marrijane Steelman Memorial Barrel Race
DESCRIPTION:
URL:https://www.ebarrelracing.com/articles/events/marrijane-steelman-memorial-barrel-race/
ORGANIZER;CN=Jessica:MAILTO:
CATEGORIES:4D,Added Money,Barrel Race,Exhibitions,Open,PeeWee
LOCATION:2200 Ranch Road 152, Llano, TX
ATTACH;FMTTYPE=image/jpeg:https://www.ebarrelracing.com/articles/wp-content/uploads/2026/03/MSMBR.jpg
END:VEVENT
BEGIN:VEVENT
CLASS:PUBLIC
UID:MEC-122915b6774a4467be946ddae541af52@ebarrelracing.com
DTSTART;TZID=America/Chicago:20260510T084500
DTEND;TZID=America/Chicago:20260510T220000
DTSTAMP:20260109T215524Z
CREATED:20260109
LAST-MODIFIED:20260402
PRIORITY:5
SEQUENCE:2
TRANSP:OPAQUE
SUMMARY:BRAT Point Race #12 Last Chance Race
DESCRIPTION:\n
URL:https://www.ebarrelracing.com/articles/events/brat-point-race-12-last-chance-race/
ORGANIZER;CN=Tammi Fillingham:MAILTO:bratentries@outlook.com
CATEGORIES:5D,Adult Inc.,Barrel Race,BRAT,Equivent Enter Online,Exhibitions,Open,Painted Ponies,Senior Inc.,Youth Inc.
LOCATION:1148 County Road 3690, Paradise, TX
ATTACH;FMTTYPE=image/png:https://www.ebarrelracing.com/articles/wp-content/uploads/2026/01/image12.png
END:VEVENT
BEGIN:VEVENT
CLASS:PUBLIC
UID:MEC-445b6949ed8860ca6175e8c89464ba85@ebarrelracing.com
DTSTART;TZID=America/Chicago:20260513T100000
DURATION:PT11H
DTSTAMP:20260408T093020Z
RDATE;TZID=America/Chicago:20260513T100000,20260603T100000,20260617T100000,20260701T100000
CREATED:20260408
LAST-MODIFIED:20260408
PRIORITY:5
SEQUENCE:1
TRANSP:OPAQUE
SUMMARY:Full Send Open & Yth Barrel Series
DESCRIPTION:ONLINE ENTRIES OPEN EVERY MONDAY BEFORE RACE 7am-9pm\n\n
URL:https://www.ebarrelracing.com/articles/events/full-send-open-yth-barrel-series/
ORGANIZER;CN=Arrow CS Productions:MAILTO:sierra.marie6577@yahoo.com
CATEGORIES:4D,Arrow CS Productions,Barrel Race,Derby Sidepot,Equivent Enter Online,Exhibitions,Futurity,High Stakes,Open,Youth Race
LOCATION:3900 CR 805 B Cleburne , TX 76301
ATTACH;FMTTYPE=image/jpeg:https://www.ebarrelracing.com/articles/wp-content/uploads/2026/04/full-send-open-yth-series.jpg
END:VEVENT
BEGIN:VEVENT
CLASS:PUBLIC
UID:MEC-39375e8559373aede34f6f15b8dab4dc@ebarrelracing.com
DTSTART;TZID=America/Chicago:20260516T100000
DURATION:PT11H
DTSTAMP:20251220T181840Z
RDATE;TZID=America/Chicago:20260516T100000,20260613T100000,20260919T100000,20261017T100000,20261114T100000
CREATED:20251220
LAST-MODIFIED:20260328
PRIORITY:5
SEQUENCE:7
TRANSP:OPAQUE
SUMMARY:Texas Playday Assoc 2026 Season Schedule
DESCRIPTION:\n
URL:https://www.ebarrelracing.com/articles/events/texas-playday-assoc-2026-season-schedule/
ORGANIZER;CN=Dee Scarbro:MAILTO:txplayday@gmail.com
CATEGORIES:Barrel Race,Equivent Enter Online,Playday,Poles,TXPA
ATTACH;FMTTYPE=image/jpeg:https://www.ebarrelracing.com/articles/wp-content/uploads/2025/12/2026schedule.jpg
END:VEVENT
BEGIN:VEVENT
CLASS:PUBLIC
UID:MEC-35769af2909a9593b22f8b832ae7600e@ebarrelracing.com
DTSTART;TZID=America/Chicago:20260516T090000
DTEND;TZID=America/Chicago:20260516T220000
DTSTAMP:20260227T083314Z
CREATED:20260227
LAST-MODIFIED:20260402
PRIORITY:5
SEQUENCE:3
TRANSP:OPAQUE
SUMMARY:May Day Barrel Bash JCSP
DESCRIPTION:Online Entries coming soon\n\n
URL:https://www.ebarrelracing.com/articles/events/may-day-barrel-bash-jcsp/
ORGANIZER;CN=Arrow CS Productions:MAILTO:sierra.marie6577@yahoo.com
CATEGORIES:Arrow CS Productions,Barrel Race,Open
LOCATION:1315 North Main Street, Cleburne, TX 76033
ATTACH;FMTTYPE=image/jpeg:https://www.ebarrelracing.com/articles/wp-content/uploads/2026/02/mayday-barrel-bash-may-16.jpeg
END:VEVENT
BEGIN:VEVENT
CLASS:PUBLIC
UID:MEC-ee89223a2b625b5152132ed77abbcc79@ebarrelracing.com
DTSTART;TZID=America/Chicago:20260521T130000
DURATION:PT9H
DTSTAMP:20260412T081557Z
RDATE;TZID=America/Chicago:20260421T130000,20260521T130000
CREATED:20260412
LAST-MODIFIED:20260412
PRIORITY:5
SEQUENCE:3
TRANSP:OPAQUE
SUMMARY:Pick Your Prize Series #2
DESCRIPTION:
URL:https://www.ebarrelracing.com/articles/events/pick-your-prize-series-2/
ORGANIZER;CN=Se'vette Early:MAILTO:raftereprod@gmail.com
CATEGORIES:5D,Adult Inc.,Barrel Race,Exhibitions,Jackpot,Novice Horse,Open,Senior Inc.,Youth Race
LOCATION:2591 Hwy 290, Giddings, TX
ATTACH;FMTTYPE=image/png:https://www.ebarrelracing.com/articles/wp-content/uploads/2026/04/image-2.png
END:VEVENT
BEGIN:VEVENT
CLASS:PUBLIC
UID:MEC-411c451fa50ccb4a60206a83c8d5d8a4@ebarrelracing.com
DTSTART;TZID=America/Chicago:20260523T100000
DTEND;TZID=America/Chicago:20260523T210000
DTSTAMP:20260419T102152Z
CREATED:20260419
LAST-MODIFIED:20260419
PRIORITY:5
SEQUENCE:1
TRANSP:OPAQUE
SUMMARY:TXPA Open High Point Playday
DESCRIPTION:Online Entries Open May 10th ( https://entriesonline.com/txpa-highpoint-playday-may-23/ )\n\n
URL:https://www.ebarrelracing.com/articles/events/txpa-open-high-point-playday/
ORGANIZER;CN=Dee Scarbro:MAILTO:txplayday@gmail.com
CATEGORIES:Barrel Race,Equivent Enter Online,Playday,Poles,TXPA
LOCATION:2141 SW Wilshire Blvd, Burleson, TX 76028
ATTACH;FMTTYPE=image/jpeg:https://www.ebarrelracing.com/articles/wp-content/uploads/2026/04/may-23-playday.jpg
END:VEVENT
BEGIN:VEVENT
CLASS:PUBLIC
UID:MEC-42e499e591496cb71d9a11ae109dc962@ebarrelracing.com
DTSTART;TZID=America/Chicago:20260524T110000
DURATION:PT10H
DTSTAMP:20260222T103553Z
RDATE;TZID=America/Chicago:20260322T110000,20260412T110000,20260524T110000,20260614T110000
CREATED:20260222
LAST-MODIFIED:20260222
PRIORITY:5
SEQUENCE:1
TRANSP:OPAQUE
SUMMARY:Go Fast Races Haulin in The Cans Series
DESCRIPTION:
URL:https://www.ebarrelracing.com/articles/events/go-fast-races-haulin-in-the-cans-series/
ORGANIZER;CN=Organizer Name:MAILTO:mitzi@gofastraces.com
CATEGORIES:4D,5D,Adult Inc.,Barrel Race,BBR Approved,Exhibitions,High Stakes,Open,Senior Inc.,Youth Race
LOCATION:401 Obst Rd, Bulverde, TX 78163
ATTACH;FMTTYPE=image/jpeg:https://www.ebarrelracing.com/articles/wp-content/uploads/2026/02/march-april-events.jpg
END:VEVENT
BEGIN:VEVENT
CLASS:PUBLIC
UID:MEC-e9c8064bc8dac39bed69dd1d0158c1cd@ebarrelracing.com
DTSTART;TZID=America/Chicago:20260524T110000
DTEND;TZID=America/Chicago:20260524T220000
DTSTAMP:20260329T095812Z
RDATE;TZID=America/Chicago:20260412T110000,20260524T110000,20260614T110000
CREATED:20260329
LAST-MODIFIED:20260329
PRIORITY:5
SEQUENCE:1
TRANSP:OPAQUE
SUMMARY:Haulin in the Cans Series
DESCRIPTION:
URL:https://www.ebarrelracing.com/articles/events/haulin-in-the-cans-series/
ORGANIZER;CN=Mitzi:MAILTO:mitzi@gofastraces.com
CATEGORIES:4D,Added Money,Adult Inc.,Barrel Race,Exhibitions,High Stakes,Open,Senior Inc.,Youth Race
LOCATION:401 Obst Rd, Bulverde, TX 78163
ATTACH;FMTTYPE=image/jpeg:https://www.ebarrelracing.com/articles/wp-content/uploads/2026/03/652250358_1336830025130594_2471298532964641886_n.jpg
END:VEVENT
BEGIN:VEVENT
CLASS:PUBLIC
UID:MEC-7e19999864bb17b5cf10e68e3c7e6276@ebarrelracing.com
DTSTART;TZID=America/Chicago:20260525T080000
DTEND;TZID=America/Chicago:20260525T220000
DTSTAMP:20260323T172655Z
CREATED:20260323
LAST-MODIFIED:20260323
PRIORITY:5
SEQUENCE:1
TRANSP:OPAQUE
SUMMARY:RACE for the CROWN 5D Race $1500 Added
DESCRIPTION:Online Entries Open May 1st\n\n
URL:https://www.ebarrelracing.com/articles/events/race-for-the-crown-5d-race-1500-added/
ORGANIZER;CN=Casey Hammons:MAILTO:missccpr@gmail.com
CATEGORIES:4D,5D,Adult Inc.,Barrel Race,Open,Senior Inc.,Youth Inc.
LOCATION:10740 N US Hwy 377 Stephenville, Tx 76401
ATTACH;FMTTYPE=image/jpeg:https://www.ebarrelracing.com/articles/wp-content/uploads/2026/03/race-for-crown.jpg
END:VEVENT
END:VCALENDAR
